BEGIN:VCALENDAR
VERSION:2.0
PRODID:-//DJ STEVIE G - ECPv6.15.20//NONSGML v1.0//EN
CALSCALE:GREGORIAN
METHOD:PUBLISH
X-WR-CALNAME:DJ STEVIE G
X-ORIGINAL-URL:https://djstevieg.site
X-WR-CALDESC:Events for DJ STEVIE G
REFRESH-INTERVAL;VALUE=DURATION:PT1H
X-Robots-Tag:noindex
X-PUBLISHED-TTL:PT1H
BEGIN:VTIMEZONE
TZID:America/Chicago
BEGIN:DAYLIGHT
TZOFFSETFROM:-0600
TZOFFSETTO:-0500
TZNAME:CDT
DTSTART:20250309T080000
END:DAYLIGHT
BEGIN:STANDARD
TZOFFSETFROM:-0500
TZOFFSETTO:-0600
TZNAME:CST
DTSTART:20251102T070000
END:STANDARD
BEGIN:DAYLIGHT
TZOFFSETFROM:-0600
TZOFFSETTO:-0500
TZNAME:CDT
DTSTART:20260308T080000
END:DAYLIGHT
BEGIN:STANDARD
TZOFFSETFROM:-0500
TZOFFSETTO:-0600
TZNAME:CST
DTSTART:20261101T070000
END:STANDARD
BEGIN:DAYLIGHT
TZOFFSETFROM:-0600
TZOFFSETTO:-0500
TZNAME:CDT
DTSTART:20270314T080000
END:DAYLIGHT
BEGIN:STANDARD
TZOFFSETFROM:-0500
TZOFFSETTO:-0600
TZNAME:CST
DTSTART:20271107T070000
END:STANDARD
END:VTIMEZONE
BEGIN:VEVENT
DTSTART;TZID=America/Chicago:20260613T180000
DTEND;TZID=America/Chicago:20260613T220000
DTSTAMP:20260423T184043
CREATED:20260415T170326Z
LAST-MODIFIED:20260415T170326Z
UID:4665-1781373600-1781388000@djstevieg.site
SUMMARY:Booked - Graduation Party
DESCRIPTION:
URL:https://djstevieg.site/events/booked-graduation-party/
END:VEVENT
BEGIN:VEVENT
DTSTART;TZID=America/Chicago:20260606T160000
DTEND;TZID=America/Chicago:20260606T223000
DTSTAMP:20260423T184043
CREATED:20260415T170241Z
LAST-MODIFIED:20260415T170242Z
UID:4663-1780761600-1780785000@djstevieg.site
SUMMARY:Booked - Wedding
DESCRIPTION:
URL:https://djstevieg.site/events/booked-wedding/
END:VEVENT
BEGIN:VEVENT
DTSTART;TZID=America/Chicago:20260529T210000
DTEND;TZID=America/Chicago:20260530T010000
DTSTAMP:20260423T184043
CREATED:20260415T170022Z
LAST-MODIFIED:20260415T170131Z
UID:4660-1780088400-1780102800@djstevieg.site
SUMMARY:Playing At El Luchador Bar
DESCRIPTION:
URL:https://djstevieg.site/events/playing-at-el-luchador-bar/
END:VEVENT
BEGIN:VEVENT
DTSTART;TZID=America/Chicago:20260522T000000
DTEND;TZID=America/Chicago:20260525T235959
DTSTAMP:20260423T184043
CREATED:20260415T165918Z
LAST-MODIFIED:20260415T165920Z
UID:4658-1779408000-1779753599@djstevieg.site
SUMMARY:Unavailable
DESCRIPTION:
URL:https://djstevieg.site/events/unavailable/
END:VEVENT
BEGIN:VEVENT
DTSTART;TZID=America/Chicago:20260521T150000
DTEND;TZID=America/Chicago:20260521T190000
DTSTAMP:20260423T184043
CREATED:20250916T140559Z
LAST-MODIFIED:20250916T140603Z
UID:4258-1779375600-1779390000@djstevieg.site
SUMMARY:DJ - School event
DESCRIPTION:
URL:https://djstevieg.site/events/dj-school-event/
END:VEVENT
BEGIN:VEVENT
DTSTART;TZID=America/Chicago:20260516T180000
DTEND;TZID=America/Chicago:20260516T230000
DTSTAMP:20260423T184043
CREATED:20250807T141218Z
LAST-MODIFIED:20250807T141227Z
UID:4169-1778954400-1778972400@djstevieg.site
SUMMARY:DJ - Wedding
DESCRIPTION:
URL:https://djstevieg.site/events/dj-wedding-15/
END:VEVENT
BEGIN:VEVENT
DTSTART;TZID=America/Chicago:20260509T000000
DTEND;TZID=America/Chicago:20260510T235959
DTSTAMP:20260423T184043
CREATED:20250807T141136Z
LAST-MODIFIED:20250916T134920Z
UID:4167-1778284800-1778457599@djstevieg.site
SUMMARY:Unavailable
DESCRIPTION:
URL:https://djstevieg.site/events/unavailable-4/
END:VEVENT
BEGIN:VEVENT
DTSTART;TZID=America/Chicago:20260508T190000
DTEND;TZID=America/Chicago:20260508T220000
DTSTAMP:20260423T184043
CREATED:20260116T160520Z
LAST-MODIFIED:20260116T160521Z
UID:4628-1778266800-1778277600@djstevieg.site
SUMMARY:Second Friday at Roundabout
DESCRIPTION:
URL:https://djstevieg.site/events/second-friday-at-roundabout/
LOCATION:Roundabout\, 1710 Blanco Rd\, Texas\, 78212\, United States
END:VEVENT
BEGIN:VEVENT
DTSTART;TZID=America/Chicago:20260507T170000
DTEND;TZID=America/Chicago:20260507T230000
DTSTAMP:20260423T184043
CREATED:20250916T134804Z
LAST-MODIFIED:20250916T134808Z
UID:4236-1778173200-1778194800@djstevieg.site
SUMMARY:DJ - Wedding
DESCRIPTION:
URL:https://djstevieg.site/events/dj-wedding/
END:VEVENT
BEGIN:VEVENT
DTSTART;TZID=America/Chicago:20260502T183000
DTEND;TZID=America/Chicago:20260502T223000
DTSTAMP:20260423T184043
CREATED:20260415T165826Z
LAST-MODIFIED:20260415T165827Z
UID:4656-1777746600-1777761000@djstevieg.site
SUMMARY:Booked - Clark HS Band Banquet
DESCRIPTION:
URL:https://djstevieg.site/events/booked-clark-hs-band-banquet/
END:VEVENT
BEGIN:VEVENT
DTSTART;TZID=America/Chicago:20260501T190000
DTEND;TZID=America/Chicago:20260501T230000
DTSTAMP:20260423T184043
CREATED:20250916T134726Z
LAST-MODIFIED:20250916T134731Z
UID:4234-1777662000-1777676400@djstevieg.site
SUMMARY:Holmes HS Band Banquet
DESCRIPTION:
URL:https://djstevieg.site/events/holmes-hs-band-banquet/
END:VEVENT
BEGIN:VEVENT
DTSTART;TZID=America/Chicago:20260425T170000
DTEND;TZID=America/Chicago:20260425T220000
DTSTAMP:20260423T184043
CREATED:20260415T165733Z
LAST-MODIFIED:20260415T165733Z
UID:4654-1777136400-1777154400@djstevieg.site
SUMMARY:Booked - Birthday Party
DESCRIPTION:
URL:https://djstevieg.site/events/booked-birthday-party/
END:VEVENT
BEGIN:VEVENT
DTSTART;TZID=America/Chicago:20260424T000000
DTEND;TZID=America/Chicago:20260424T235959
DTSTAMP:20260423T184043
CREATED:20260415T165610Z
LAST-MODIFIED:20260415T165658Z
UID:4651-1776988800-1777075199@djstevieg.site
SUMMARY:Unavailable
DESCRIPTION:
URL:https://djstevieg.site/events/unavailble/
END:VEVENT
BEGIN:VEVENT
DTSTART;TZID=America/Chicago:20260423T180000
DTEND;TZID=America/Chicago:20260423T220000
DTSTAMP:20260423T184043
CREATED:20250807T141103Z
LAST-MODIFIED:20250807T141106Z
UID:4165-1776967200-1776981600@djstevieg.site
SUMMARY:DJ - Wedding
DESCRIPTION:
URL:https://djstevieg.site/events/dj-wedding-14/
END:VEVENT
BEGIN:VEVENT
DTSTART;TZID=America/Chicago:20260418T180000
DTEND;TZID=America/Chicago:20260418T233000
DTSTAMP:20260423T184043
CREATED:20250916T135912Z
LAST-MODIFIED:20250916T135916Z
UID:4248-1776535200-1776555000@djstevieg.site
SUMMARY:DJ - Quince
DESCRIPTION:
URL:https://djstevieg.site/events/dj-quince/
END:VEVENT
BEGIN:VEVENT
DTSTART;TZID=America/Chicago:20260411T170000
DTEND;TZID=America/Chicago:20260411T220000
DTSTAMP:20260423T184043
CREATED:20250807T141015Z
LAST-MODIFIED:20250807T141019Z
UID:4163-1775926800-1775944800@djstevieg.site
SUMMARY:DJ - Wedding
DESCRIPTION:
URL:https://djstevieg.site/events/dj-wedding-13/
END:VEVENT
BEGIN:VEVENT
DTSTART;TZID=America/Chicago:20260328T130000
DTEND;TZID=America/Chicago:20260328T180000
DTSTAMP:20260423T184043
CREATED:20260309T141820Z
LAST-MODIFIED:20260309T141822Z
UID:4644-1774702800-1774720800@djstevieg.site
SUMMARY:DJ - Wedding
DESCRIPTION:
URL:https://djstevieg.site/events/dj-wedding-5/
END:VEVENT
BEGIN:VEVENT
DTSTART;TZID=America/Chicago:20260320T213000
DTEND;TZID=America/Chicago:20260321T013000
DTSTAMP:20260423T184043
CREATED:20260309T141643Z
LAST-MODIFIED:20260309T141645Z
UID:4642-1774042200-1774056600@djstevieg.site
SUMMARY:DJ - El Luchador Bar
DESCRIPTION:
URL:https://djstevieg.site/events/dj-el-luchador-bar/
END:VEVENT
END:VCALENDAR