BEGIN:VCALENDAR
VERSION:2.0
PRODID:-//DJ STEVIE G - ECPv6.15.20//NONSGML v1.0//EN
CALSCALE:GREGORIAN
METHOD:PUBLISH
X-WR-CALNAME:DJ STEVIE G
X-ORIGINAL-URL:https://djstevieg.site
X-WR-CALDESC:Events for DJ STEVIE G
REFRESH-INTERVAL;VALUE=DURATION:PT1H
X-Robots-Tag:noindex
X-PUBLISHED-TTL:PT1H
BEGIN:VTIMEZONE
TZID:America/Chicago
BEGIN:DAYLIGHT
TZOFFSETFROM:-0600
TZOFFSETTO:-0500
TZNAME:CDT
DTSTART:20250309T080000
END:DAYLIGHT
BEGIN:STANDARD
TZOFFSETFROM:-0500
TZOFFSETTO:-0600
TZNAME:CST
DTSTART:20251102T070000
END:STANDARD
BEGIN:DAYLIGHT
TZOFFSETFROM:-0600
TZOFFSETTO:-0500
TZNAME:CDT
DTSTART:20260308T080000
END:DAYLIGHT
BEGIN:STANDARD
TZOFFSETFROM:-0500
TZOFFSETTO:-0600
TZNAME:CST
DTSTART:20261101T070000
END:STANDARD
BEGIN:DAYLIGHT
TZOFFSETFROM:-0600
TZOFFSETTO:-0500
TZNAME:CDT
DTSTART:20270314T080000
END:DAYLIGHT
BEGIN:STANDARD
TZOFFSETFROM:-0500
TZOFFSETTO:-0600
TZNAME:CST
DTSTART:20271107T070000
END:STANDARD
END:VTIMEZONE
BEGIN:VEVENT
DTSTART;TZID=America/Chicago:20260418T180000
DTEND;TZID=America/Chicago:20260418T233000
DTSTAMP:20260423T165607
CREATED:20250916T135912Z
LAST-MODIFIED:20250916T135916Z
UID:4248-1776535200-1776555000@djstevieg.site
SUMMARY:DJ - Quince
DESCRIPTION:
URL:https://djstevieg.site/events/dj-quince/
END:VEVENT
BEGIN:VEVENT
DTSTART;TZID=America/Chicago:20260411T170000
DTEND;TZID=America/Chicago:20260411T220000
DTSTAMP:20260423T165607
CREATED:20250807T141015Z
LAST-MODIFIED:20250807T141019Z
UID:4163-1775926800-1775944800@djstevieg.site
SUMMARY:DJ - Wedding
DESCRIPTION:
URL:https://djstevieg.site/events/dj-wedding-13/
END:VEVENT
BEGIN:VEVENT
DTSTART;TZID=America/Chicago:20260328T130000
DTEND;TZID=America/Chicago:20260328T180000
DTSTAMP:20260423T165607
CREATED:20260309T141820Z
LAST-MODIFIED:20260309T141822Z
UID:4644-1774702800-1774720800@djstevieg.site
SUMMARY:DJ - Wedding
DESCRIPTION:
URL:https://djstevieg.site/events/dj-wedding-5/
END:VEVENT
BEGIN:VEVENT
DTSTART;TZID=America/Chicago:20260320T213000
DTEND;TZID=America/Chicago:20260321T013000
DTSTAMP:20260423T165607
CREATED:20260309T141643Z
LAST-MODIFIED:20260309T141645Z
UID:4642-1774042200-1774056600@djstevieg.site
SUMMARY:DJ - El Luchador Bar
DESCRIPTION:
URL:https://djstevieg.site/events/dj-el-luchador-bar/
END:VEVENT
END:VCALENDAR