BEGIN:VCALENDAR
VERSION:2.0
PRODID:-//DJ STEVIE G - ECPv6.15.20//NONSGML v1.0//EN
CALSCALE:GREGORIAN
METHOD:PUBLISH
X-WR-CALNAME:DJ STEVIE G
X-ORIGINAL-URL:https://djstevieg.site
X-WR-CALDESC:Events for DJ STEVIE G
REFRESH-INTERVAL;VALUE=DURATION:PT1H
X-Robots-Tag:noindex
X-PUBLISHED-TTL:PT1H
BEGIN:VTIMEZONE
TZID:America/Chicago
BEGIN:DAYLIGHT
TZOFFSETFROM:-0600
TZOFFSETTO:-0500
TZNAME:CDT
DTSTART:20250309T080000
END:DAYLIGHT
BEGIN:STANDARD
TZOFFSETFROM:-0500
TZOFFSETTO:-0600
TZNAME:CST
DTSTART:20251102T070000
END:STANDARD
BEGIN:DAYLIGHT
TZOFFSETFROM:-0600
TZOFFSETTO:-0500
TZNAME:CDT
DTSTART:20260308T080000
END:DAYLIGHT
BEGIN:STANDARD
TZOFFSETFROM:-0500
TZOFFSETTO:-0600
TZNAME:CST
DTSTART:20261101T070000
END:STANDARD
BEGIN:DAYLIGHT
TZOFFSETFROM:-0600
TZOFFSETTO:-0500
TZNAME:CDT
DTSTART:20270314T080000
END:DAYLIGHT
BEGIN:STANDARD
TZOFFSETFROM:-0500
TZOFFSETTO:-0600
TZNAME:CST
DTSTART:20271107T070000
END:STANDARD
END:VTIMEZONE
BEGIN:VEVENT
DTSTART;TZID=America/Chicago:20261031T000000
DTEND;TZID=America/Chicago:20261031T235959
DTSTAMP:20260423T153517
CREATED:20251027T194313Z
LAST-MODIFIED:20251027T194318Z
UID:4283-1793404800-1793491199@djstevieg.site
SUMMARY:Unavailable
DESCRIPTION:
URL:https://djstevieg.site/events/unavailable-8/
END:VEVENT
BEGIN:VEVENT
DTSTART;TZID=America/Chicago:20261106T180000
DTEND;TZID=America/Chicago:20261106T223000
DTSTAMP:20260423T153517
CREATED:20260416T143008Z
LAST-MODIFIED:20260416T143009Z
UID:4676-1793988000-1794004200@djstevieg.site
SUMMARY:Booked - Wedding
DESCRIPTION:
URL:https://djstevieg.site/events/booked-wedding-3/
END:VEVENT
BEGIN:VEVENT
DTSTART;TZID=America/Chicago:20261114T160000
DTEND;TZID=America/Chicago:20261114T230000
DTSTAMP:20260423T153517
CREATED:20251223T161015Z
LAST-MODIFIED:20251223T161019Z
UID:4382-1794672000-1794697200@djstevieg.site
SUMMARY:DJ - Wedding
DESCRIPTION:
URL:https://djstevieg.site/events/dj-wedding-3/
END:VEVENT
BEGIN:VEVENT
DTSTART;TZID=America/Chicago:20261128T160000
DTEND;TZID=America/Chicago:20261128T233000
DTSTAMP:20260423T153517
CREATED:20251223T161154Z
LAST-MODIFIED:20251223T161158Z
UID:4384-1795881600-1795908600@djstevieg.site
SUMMARY:DJ - Quince
DESCRIPTION:
URL:https://djstevieg.site/events/dj-quince-3/
END:VEVENT
BEGIN:VEVENT
DTSTART;TZID=America/Chicago:20261211T190000
DTEND;TZID=America/Chicago:20261211T230000
DTSTAMP:20260423T153517
CREATED:20250916T140232Z
LAST-MODIFIED:20250916T140236Z
UID:4254-1797015600-1797030000@djstevieg.site
SUMMARY:DJ - Birthday Party
DESCRIPTION:
URL:https://djstevieg.site/events/dj-birthday-party-3/
END:VEVENT
BEGIN:VEVENT
DTSTART;TZID=America/Chicago:20261219T180000
DTEND;TZID=America/Chicago:20261219T220000
DTSTAMP:20260423T153517
CREATED:20250916T140345Z
LAST-MODIFIED:20250916T140350Z
UID:4256-1797703200-1797717600@djstevieg.site
SUMMARY:DJ - Birthday Party
DESCRIPTION:
URL:https://djstevieg.site/events/dj-birthday-party-4/
END:VEVENT
BEGIN:VEVENT
DTSTART;TZID=America/Chicago:20261220T150000
DTEND;TZID=America/Chicago:20261220T230000
DTSTAMP:20260423T153517
CREATED:20251223T161342Z
LAST-MODIFIED:20251223T161345Z
UID:4386-1797778800-1797807600@djstevieg.site
SUMMARY:DJ - Wedding
DESCRIPTION:
URL:https://djstevieg.site/events/dj-wedding-4/
END:VEVENT
BEGIN:VEVENT
DTSTART;TZID=America/Chicago:20261229T160000
DTEND;TZID=America/Chicago:20261229T230000
DTSTAMP:20260423T153517
CREATED:20251223T160827Z
LAST-MODIFIED:20251223T160831Z
UID:4380-1798560000-1798585200@djstevieg.site
SUMMARY:DJ - Wedding
DESCRIPTION:
URL:https://djstevieg.site/events/dj-wedding-2/
END:VEVENT
END:VCALENDAR