BEGIN:VCALENDAR
VERSION:2.0
PRODID:-//DJ STEVIE G - ECPv6.15.20//NONSGML v1.0//EN
CALSCALE:GREGORIAN
METHOD:PUBLISH
X-ORIGINAL-URL:https://djstevieg.site
X-WR-CALDESC:Events for DJ STEVIE G
REFRESH-INTERVAL;VALUE=DURATION:PT1H
X-Robots-Tag:noindex
X-PUBLISHED-TTL:PT1H
BEGIN:VTIMEZONE
TZID:America/Chicago
BEGIN:DAYLIGHT
TZOFFSETFROM:-0600
TZOFFSETTO:-0500
TZNAME:CDT
DTSTART:20250309T080000
END:DAYLIGHT
BEGIN:STANDARD
TZOFFSETFROM:-0500
TZOFFSETTO:-0600
TZNAME:CST
DTSTART:20251102T070000
END:STANDARD
BEGIN:DAYLIGHT
TZOFFSETFROM:-0600
TZOFFSETTO:-0500
TZNAME:CDT
DTSTART:20260308T080000
END:DAYLIGHT
BEGIN:STANDARD
TZOFFSETFROM:-0500
TZOFFSETTO:-0600
TZNAME:CST
DTSTART:20261101T070000
END:STANDARD
BEGIN:DAYLIGHT
TZOFFSETFROM:-0600
TZOFFSETTO:-0500
TZNAME:CDT
DTSTART:20270314T080000
END:DAYLIGHT
BEGIN:STANDARD
TZOFFSETFROM:-0500
TZOFFSETTO:-0600
TZNAME:CST
DTSTART:20271107T070000
END:STANDARD
END:VTIMEZONE
BEGIN:VEVENT
DTSTART;TZID=America/Chicago:20261219T180000
DTEND;TZID=America/Chicago:20261219T220000
DTSTAMP:20260423T182925
CREATED:20250916T140345Z
LAST-MODIFIED:20250916T140350Z
UID:4256-1797703200-1797717600@djstevieg.site
SUMMARY:DJ - Birthday Party
DESCRIPTION:
URL:https://djstevieg.site/events/dj-birthday-party-4/
END:VEVENT
BEGIN:VEVENT
DTSTART;TZID=America/Chicago:20261220T150000
DTEND;TZID=America/Chicago:20261220T230000
DTSTAMP:20260423T182925
CREATED:20251223T161342Z
LAST-MODIFIED:20251223T161345Z
UID:4386-1797778800-1797807600@djstevieg.site
SUMMARY:DJ - Wedding
DESCRIPTION:
URL:https://djstevieg.site/events/dj-wedding-4/
END:VEVENT
BEGIN:VEVENT
DTSTART;TZID=America/Chicago:20261229T160000
DTEND;TZID=America/Chicago:20261229T230000
DTSTAMP:20260423T182925
CREATED:20251223T160827Z
LAST-MODIFIED:20251223T160831Z
UID:4380-1798560000-1798585200@djstevieg.site
SUMMARY:DJ - Wedding
DESCRIPTION:
URL:https://djstevieg.site/events/dj-wedding-2/
END:VEVENT
END:VCALENDAR