BEGIN:VCALENDAR
VERSION:2.0
PRODID:-//DJ STEVIE G - ECPv6.15.20//NONSGML v1.0//EN
CALSCALE:GREGORIAN
METHOD:PUBLISH
X-WR-CALNAME:DJ STEVIE G
X-ORIGINAL-URL:https://djstevieg.site
X-WR-CALDESC:Events for DJ STEVIE G
REFRESH-INTERVAL;VALUE=DURATION:PT1H
X-Robots-Tag:noindex
X-PUBLISHED-TTL:PT1H
BEGIN:VTIMEZONE
TZID:America/Chicago
BEGIN:DAYLIGHT
TZOFFSETFROM:-0600
TZOFFSETTO:-0500
TZNAME:CDT
DTSTART:20250309T080000
END:DAYLIGHT
BEGIN:STANDARD
TZOFFSETFROM:-0500
TZOFFSETTO:-0600
TZNAME:CST
DTSTART:20251102T070000
END:STANDARD
BEGIN:DAYLIGHT
TZOFFSETFROM:-0600
TZOFFSETTO:-0500
TZNAME:CDT
DTSTART:20260308T080000
END:DAYLIGHT
BEGIN:STANDARD
TZOFFSETFROM:-0500
TZOFFSETTO:-0600
TZNAME:CST
DTSTART:20261101T070000
END:STANDARD
BEGIN:DAYLIGHT
TZOFFSETFROM:-0600
TZOFFSETTO:-0500
TZNAME:CDT
DTSTART:20270314T080000
END:DAYLIGHT
BEGIN:STANDARD
TZOFFSETFROM:-0500
TZOFFSETTO:-0600
TZNAME:CST
DTSTART:20271107T070000
END:STANDARD
END:VTIMEZONE
BEGIN:VEVENT
DTSTART;TZID=America/Chicago:20260606T160000
DTEND;TZID=America/Chicago:20260606T223000
DTSTAMP:20260423T123413
CREATED:20260415T170241Z
LAST-MODIFIED:20260415T170242Z
UID:4663-1780761600-1780785000@djstevieg.site
SUMMARY:Booked - Wedding
DESCRIPTION:
URL:https://djstevieg.site/events/booked-wedding/
END:VEVENT
BEGIN:VEVENT
DTSTART;TZID=America/Chicago:20260613T180000
DTEND;TZID=America/Chicago:20260613T220000
DTSTAMP:20260423T123413
CREATED:20260415T170326Z
LAST-MODIFIED:20260415T170326Z
UID:4665-1781373600-1781388000@djstevieg.site
SUMMARY:Booked - Graduation Party
DESCRIPTION:
URL:https://djstevieg.site/events/booked-graduation-party/
END:VEVENT
BEGIN:VEVENT
DTSTART;TZID=America/Chicago:20260620T180000
DTEND;TZID=America/Chicago:20260620T233000
DTSTAMP:20260423T123413
CREATED:20250916T140009Z
LAST-MODIFIED:20250916T140012Z
UID:4250-1781978400-1781998200@djstevieg.site
SUMMARY:DJ - Quince
DESCRIPTION:
URL:https://djstevieg.site/events/dj-quince-2/
END:VEVENT
BEGIN:VEVENT
DTSTART;TZID=America/Chicago:20260626T210000
DTEND;TZID=America/Chicago:20260627T010000
DTSTAMP:20260423T123413
CREATED:20260415T170408Z
LAST-MODIFIED:20260415T170409Z
UID:4667-1782507600-1782522000@djstevieg.site
SUMMARY:Playing At El Luchador Bar
DESCRIPTION:
URL:https://djstevieg.site/events/playing-at-el-luchador-bar-2/
END:VEVENT
END:VCALENDAR