BEGIN:VCALENDAR
VERSION:2.0
PRODID:-//DJ STEVIE G - ECPv6.15.20//NONSGML v1.0//EN
CALSCALE:GREGORIAN
METHOD:PUBLISH
X-ORIGINAL-URL:https://djstevieg.site
X-WR-CALDESC:Events for DJ STEVIE G
REFRESH-INTERVAL;VALUE=DURATION:PT1H
X-Robots-Tag:noindex
X-PUBLISHED-TTL:PT1H
BEGIN:VTIMEZONE
TZID:America/Chicago
BEGIN:DAYLIGHT
TZOFFSETFROM:-0600
TZOFFSETTO:-0500
TZNAME:CDT
DTSTART:20250309T080000
END:DAYLIGHT
BEGIN:STANDARD
TZOFFSETFROM:-0500
TZOFFSETTO:-0600
TZNAME:CST
DTSTART:20251102T070000
END:STANDARD
BEGIN:DAYLIGHT
TZOFFSETFROM:-0600
TZOFFSETTO:-0500
TZNAME:CDT
DTSTART:20260308T080000
END:DAYLIGHT
BEGIN:STANDARD
TZOFFSETFROM:-0500
TZOFFSETTO:-0600
TZNAME:CST
DTSTART:20261101T070000
END:STANDARD
BEGIN:DAYLIGHT
TZOFFSETFROM:-0600
TZOFFSETTO:-0500
TZNAME:CDT
DTSTART:20270314T080000
END:DAYLIGHT
BEGIN:STANDARD
TZOFFSETFROM:-0500
TZOFFSETTO:-0600
TZNAME:CST
DTSTART:20271107T070000
END:STANDARD
END:VTIMEZONE
BEGIN:VEVENT
DTSTART;TZID=America/Chicago:20260704T000000
DTEND;TZID=America/Chicago:20260706T235959
DTSTAMP:20260423T141050
CREATED:20250916T140054Z
LAST-MODIFIED:20250916T140059Z
UID:4252-1783123200-1783382399@djstevieg.site
SUMMARY:Unavailable
DESCRIPTION:
URL:https://djstevieg.site/events/unavailable-18/
END:VEVENT
BEGIN:VEVENT
DTSTART;TZID=America/Chicago:20260718T143000
DTEND;TZID=America/Chicago:20260718T173000
DTSTAMP:20260423T141050
CREATED:20260309T142011Z
LAST-MODIFIED:20260309T142012Z
UID:4646-1784385000-1784395800@djstevieg.site
SUMMARY:DJ - Engagement Party
DESCRIPTION:
URL:https://djstevieg.site/events/dj-engagement-party/
END:VEVENT
BEGIN:VEVENT
DTSTART;TZID=America/Chicago:20260731T200000
DTEND;TZID=America/Chicago:20260731T233000
DTSTAMP:20260423T141050
CREATED:20260415T170527Z
LAST-MODIFIED:20260415T170616Z
UID:4669-1785528000-1785540600@djstevieg.site
SUMMARY:Playing At El Luchador Bar
DESCRIPTION:
URL:https://djstevieg.site/events/playing-at-el-luchador-bar-3/
END:VEVENT
END:VCALENDAR